Workbook
Name FeriadosNacionais: Feriados!$A$5:$A$14
Name PontosFacultativos: Feriados!$A$15:$A$17
Name FeriadosTodos: Feriados!$A$5:$A$17

Sheet Calendário
B1: Calendário com feriados nacionais
B2: Ano: | C2: 2027 | E2: Troque o ano na célula C2. Feriado nacional em vermelho; ponto facultativo (Carnaval e Corpus Christi) em amarelo. Excelsmart.com.br
B4: =DATE($C$2,1,1) | J4: =DATE($C$2,2,1) | R4: =DATE($C$2,3,1)
B5: D | C5: S | D5: T | E5: Q | F5: Q | G5: S | H5: S | J5: D | K5: S | L5: T | M5: Q | N5: Q | O5: S | P5: S | R5: D | S5: S | T5: T | U5: Q | V5: Q | W5: S | X5: S
B6: =DATE($C$2,1,1)-WEEKDAY(DATE($C$2,1,1))+1+0 | C6: =DATE($C$2,1,1)-WEEKDAY(DATE($C$2,1,1))+1+1 | D6: =DATE($C$2,1,1)-WEEKDAY(DATE($C$2,1,1))+1+2 | E6: =DATE($C$2,1,1)-WEEKDAY(DATE($C$2,1,1))+1+3 | F6: =DATE($C$2,1,1)-WEEKDAY(DATE($C$2,1,1))+1+4 | G6: =DATE($C$2,1,1)-WEEKDAY(DATE($C$2,1,1))+1+5 | H6: =DATE($C$2,1,1)-WEEKDAY(DATE($C$2,1,1))+1+6 | J6: =DATE($C$2,2,1)-WEEKDAY(DATE($C$2,2,1))+1+0 | K6: =DATE($C$2,2,1)-WEEKDAY(DATE($C$2,2,1))+1+1 | L6: =DATE($C$2,2,1)-WEEKDAY(DATE($C$2,2,1))+1+2 | M6: =DATE($C$2,2,1)-WEEKDAY(DATE($C$2,2,1))+1+3 | N6: =DATE($C$2,2,1)-WEEKDAY(DATE($C$2,2,1))+1+4 | O6: =DATE($C$2,2,1)-WEEKDAY(DATE($C$2,2,1))+1+5 | P6: =DATE($C$2,2,1)-WEEKDAY(DATE($C$2,2,1))+1+6 | R6: =DATE($C$2,3,1)-WEEKDAY(DATE($C$2,3,1))+1+0 | S6: =DATE($C$2,3,1)-WEEKDAY(DATE($C$2,3,1))+1+1 | T6: =DATE($C$2,3,1)-WEEKDAY(DATE($C$2,3,1))+1+2 | U6: =DATE($C$2,3,1)-WEEKDAY(DATE($C$2,3,1))+1+3 | V6: =DATE($C$2,3,1)-WEEKDAY(DATE($C$2,3,1))+1+4 | W6: =DATE($C$2,3,1)-WEEKDAY(DATE($C$2,3,1))+1+5 | X6: =DATE($C$2,3,1)-WEEKDAY(DATE($C$2,3,1))+1+6
B7: =DATE($C$2,1,1)-WEEKDAY(DATE($C$2,1,1))+1+7 | C7: =DATE($C$2,1,1)-WEEKDAY(DATE($C$2,1,1))+1+8 | D7: =DATE($C$2,1,1)-WEEKDAY(DATE($C$2,1,1))+1+9 | E7: =DATE($C$2,1,1)-WEEKDAY(DATE($C$2,1,1))+1+10 | F7: =DATE($C$2,1,1)-WEEKDAY(DATE($C$2,1,1))+1+11 | G7: =DATE($C$2,1,1)-WEEKDAY(DATE($C$2,1,1))+1+12 | H7: =DATE($C$2,1,1)-WEEKDAY(DATE($C$2,1,1))+1+13 | J7: =DATE($C$2,2,1)-WEEKDAY(DATE($C$2,2,1))+1+7 | K7: =DATE($C$2,2,1)-WEEKDAY(DATE($C$2,2,1))+1+8 | L7: =DATE($C$2,2,1)-WEEKDAY(DATE($C$2,2,1))+1+9 | M7: =DATE($C$2,2,1)-WEEKDAY(DATE($C$2,2,1))+1+10 | N7: =DATE($C$2,2,1)-WEEKDAY(DATE($C$2,2,1))+1+11 | O7: =DATE($C$2,2,1)-WEEKDAY(DATE($C$2,2,1))+1+12 | P7: =DATE($C$2,2,1)-WEEKDAY(DATE($C$2,2,1))+1+13 | R7: =DATE($C$2,3,1)-WEEKDAY(DATE($C$2,3,1))+1+7 | S7: =DATE($C$2,3,1)-WEEKDAY(DATE($C$2,3,1))+1+8 | T7: =DATE($C$2,3,1)-WEEKDAY(DATE($C$2,3,1))+1+9 | U7: =DATE($C$2,3,1)-WEEKDAY(DATE($C$2,3,1))+1+10 | V7: =DATE($C$2,3,1)-WEEKDAY(DATE($C$2,3,1))+1+11 | W7: =DATE($C$2,3,1)-WEEKDAY(DATE($C$2,3,1))+1+12 | X7: =DATE($C$2,3,1)-WEEKDAY(DATE($C$2,3,1))+1+13
B8: =DATE($C$2,1,1)-WEEKDAY(DATE($C$2,1,1))+1+14 | C8: =DATE($C$2,1,1)-WEEKDAY(DATE($C$2,1,1))+1+15 | D8: =DATE($C$2,1,1)-WEEKDAY(DATE($C$2,1,1))+1+16 | E8: =DATE($C$2,1,1)-WEEKDAY(DATE($C$2,1,1))+1+17 | F8: =DATE($C$2,1,1)-WEEKDAY(DATE($C$2,1,1))+1+18 | G8: =DATE($C$2,1,1)-WEEKDAY(DATE($C$2,1,1))+1+19 | H8: =DATE($C$2,1,1)-WEEKDAY(DATE($C$2,1,1))+1+20 | J8: =DATE($C$2,2,1)-WEEKDAY(DATE($C$2,2,1))+1+14 | K8: =DATE($C$2,2,1)-WEEKDAY(DATE($C$2,2,1))+1+15 | L8: =DATE($C$2,2,1)-WEEKDAY(DATE($C$2,2,1))+1+16 | M8: =DATE($C$2,2,1)-WEEKDAY(DATE($C$2,2,1))+1+17 | N8: =DATE($C$2,2,1)-WEEKDAY(DATE($C$2,2,1))+1+18 | O8: =DATE($C$2,2,1)-WEEKDAY(DATE($C$2,2,1))+1+19 | P8: =DATE($C$2,2,1)-WEEKDAY(DATE($C$2,2,1))+1+20 | R8: =DATE($C$2,3,1)-WEEKDAY(DATE($C$2,3,1))+1+14 | S8: =DATE($C$2,3,1)-WEEKDAY(DATE($C$2,3,1))+1+15 | T8: =DATE($C$2,3,1)-WEEKDAY(DATE($C$2,3,1))+1+16 | U8: =DATE($C$2,3,1)-WEEKDAY(DATE($C$2,3,1))+1+17 | V8: =DATE($C$2,3,1)-WEEKDAY(DATE($C$2,3,1))+1+18 | W8: =DATE($C$2,3,1)-WEEKDAY(DATE($C$2,3,1))+1+19 | X8: =DATE($C$2,3,1)-WEEKDAY(DATE($C$2,3,1))+1+20
B9: =DATE($C$2,1,1)-WEEKDAY(DATE($C$2,1,1))+1+21 | C9: =DATE($C$2,1,1)-WEEKDAY(DATE($C$2,1,1))+1+22 | D9: =DATE($C$2,1,1)-WEEKDAY(DATE($C$2,1,1))+1+23 | E9: =DATE($C$2,1,1)-WEEKDAY(DATE($C$2,1,1))+1+24 | F9: =DATE($C$2,1,1)-WEEKDAY(DATE($C$2,1,1))+1+25 | G9: =DATE($C$2,1,1)-WEEKDAY(DATE($C$2,1,1))+1+26 | H9: =DATE($C$2,1,1)-WEEKDAY(DATE($C$2,1,1))+1+27 | J9: =DATE($C$2,2,1)-WEEKDAY(DATE($C$2,2,1))+1+21 | K9: =DATE($C$2,2,1)-WEEKDAY(DATE($C$2,2,1))+1+22 | L9: =DATE($C$2,2,1)-WEEKDAY(DATE($C$2,2,1))+1+23 | M9: =DATE($C$2,2,1)-WEEKDAY(DATE($C$2,2,1))+1+24 | N9: =DATE($C$2,2,1)-WEEKDAY(DATE($C$2,2,1))+1+25 | O9: =DATE($C$2,2,1)-WEEKDAY(DATE($C$2,2,1))+1+26 | P9: =DATE($C$2,2,1)-WEEKDAY(DATE($C$2,2,1))+1+27 | R9: =DATE($C$2,3,1)-WEEKDAY(DATE($C$2,3,1))+1+21 | S9: =DATE($C$2,3,1)-WEEKDAY(DATE($C$2,3,1))+1+22 | T9: =DATE($C$2,3,1)-WEEKDAY(DATE($C$2,3,1))+1+23 | U9: =DATE($C$2,3,1)-WEEKDAY(DATE($C$2,3,1))+1+24 | V9: =DATE($C$2,3,1)-WEEKDAY(DATE($C$2,3,1))+1+25 | W9: =DATE($C$2,3,1)-WEEKDAY(DATE($C$2,3,1))+1+26 | X9: =DATE($C$2,3,1)-WEEKDAY(DATE($C$2,3,1))+1+27
B10: =DATE($C$2,1,1)-WEEKDAY(DATE($C$2,1,1))+1+28 | C10: =DATE($C$2,1,1)-WEEKDAY(DATE($C$2,1,1))+1+29 | D10: =DATE($C$2,1,1)-WEEKDAY(DATE($C$2,1,1))+1+30 | E10: =DATE($C$2,1,1)-WEEKDAY(DATE($C$2,1,1))+1+31 | F10: =DATE($C$2,1,1)-WEEKDAY(DATE($C$2,1,1))+1+32 | G10: =DATE($C$2,1,1)-WEEKDAY(DATE($C$2,1,1))+1+33 | H10: =DATE($C$2,1,1)-WEEKDAY(DATE($C$2,1,1))+1+34 | J10: =DATE($C$2,2,1)-WEEKDAY(DATE($C$2,2,1))+1+28 | K10: =DATE($C$2,2,1)-WEEKDAY(DATE($C$2,2,1))+1+29 | L10: =DATE($C$2,2,1)-WEEKDAY(DATE($C$2,2,1))+1+30 | M10: =DATE($C$2,2,1)-WEEKDAY(DATE($C$2,2,1))+1+31 | N10: =DATE($C$2,2,1)-WEEKDAY(DATE($C$2,2,1))+1+32 | O10: =DATE($C$2,2,1)-WEEKDAY(DATE($C$2,2,1))+1+33 | P10: =DATE($C$2,2,1)-WEEKDAY(DATE($C$2,2,1))+1+34 | R10: =DATE($C$2,3,1)-WEEKDAY(DATE($C$2,3,1))+1+28 | S10: =DATE($C$2,3,1)-WEEKDAY(DATE($C$2,3,1))+1+29 | T10: =DATE($C$2,3,1)-WEEKDAY(DATE($C$2,3,1))+1+30 | U10: =DATE($C$2,3,1)-WEEKDAY(DATE($C$2,3,1))+1+31 | V10: =DATE($C$2,3,1)-WEEKDAY(DATE($C$2,3,1))+1+32 | W10: =DATE($C$2,3,1)-WEEKDAY(DATE($C$2,3,1))+1+33 | X10: =DATE($C$2,3,1)-WEEKDAY(DATE($C$2,3,1))+1+34
B11: =DATE($C$2,1,1)-WEEKDAY(DATE($C$2,1,1))+1+35 | C11: =DATE($C$2,1,1)-WEEKDAY(DATE($C$2,1,1))+1+36 | D11: =DATE($C$2,1,1)-WEEKDAY(DATE($C$2,1,1))+1+37 | E11: =DATE($C$2,1,1)-WEEKDAY(DATE($C$2,1,1))+1+38 | F11: =DATE($C$2,1,1)-WEEKDAY(DATE($C$2,1,1))+1+39 | G11: =DATE($C$2,1,1)-WEEKDAY(DATE($C$2,1,1))+1+40 | H11: =DATE($C$2,1,1)-WEEKDAY(DATE($C$2,1,1))+1+41 | J11: =DATE($C$2,2,1)-WEEKDAY(DATE($C$2,2,1))+1+35 | K11: =DATE($C$2,2,1)-WEEKDAY(DATE($C$2,2,1))+1+36 | L11: =DATE($C$2,2,1)-WEEKDAY(DATE($C$2,2,1))+1+37 | M11: =DATE($C$2,2,1)-WEEKDAY(DATE($C$2,2,1))+1+38 | N11: =DATE($C$2,2,1)-WEEKDAY(DATE($C$2,2,1))+1+39 | O11: =DATE($C$2,2,1)-WEEKDAY(DATE($C$2,2,1))+1+40 | P11: =DATE($C$2,2,1)-WEEKDAY(DATE($C$2,2,1))+1+41 | R11: =DATE($C$2,3,1)-WEEKDAY(DATE($C$2,3,1))+1+35 | S11: =DATE($C$2,3,1)-WEEKDAY(DATE($C$2,3,1))+1+36 | T11: =DATE($C$2,3,1)-WEEKDAY(DATE($C$2,3,1))+1+37 | U11: =DATE($C$2,3,1)-WEEKDAY(DATE($C$2,3,1))+1+38 | V11: =DATE($C$2,3,1)-WEEKDAY(DATE($C$2,3,1))+1+39 | W11: =DATE($C$2,3,1)-WEEKDAY(DATE($C$2,3,1))+1+40 | X11: =DATE($C$2,3,1)-WEEKDAY(DATE($C$2,3,1))+1+41
B13: =DATE($C$2,4,1) | J13: =DATE($C$2,5,1) | R13: =DATE($C$2,6,1)
B14: D | C14: S | D14: T | E14: Q | F14: Q | G14: S | H14: S | J14: D | K14: S | L14: T | M14: Q | N14: Q | O14: S | P14: S | R14: D | S14: S | T14: T | U14: Q | V14: Q | W14: S | X14: S
B15: =DATE($C$2,4,1)-WEEKDAY(DATE($C$2,4,1))+1+0 | C15: =DATE($C$2,4,1)-WEEKDAY(DATE($C$2,4,1))+1+1 | D15: =DATE($C$2,4,1)-WEEKDAY(DATE($C$2,4,1))+1+2 | E15: =DATE($C$2,4,1)-WEEKDAY(DATE($C$2,4,1))+1+3 | F15: =DATE($C$2,4,1)-WEEKDAY(DATE($C$2,4,1))+1+4 | G15: =DATE($C$2,4,1)-WEEKDAY(DATE($C$2,4,1))+1+5 | H15: =DATE($C$2,4,1)-WEEKDAY(DATE($C$2,4,1))+1+6 | J15: =DATE($C$2,5,1)-WEEKDAY(DATE($C$2,5,1))+1+0 | K15: =DATE($C$2,5,1)-WEEKDAY(DATE($C$2,5,1))+1+1 | L15: =DATE($C$2,5,1)-WEEKDAY(DATE($C$2,5,1))+1+2 | M15: =DATE($C$2,5,1)-WEEKDAY(DATE($C$2,5,1))+1+3 | N15: =DATE($C$2,5,1)-WEEKDAY(DATE($C$2,5,1))+1+4 | O15: =DATE($C$2,5,1)-WEEKDAY(DATE($C$2,5,1))+1+5 | P15: =DATE($C$2,5,1)-WEEKDAY(DATE($C$2,5,1))+1+6 | R15: =DATE($C$2,6,1)-WEEKDAY(DATE($C$2,6,1))+1+0 | S15: =DATE($C$2,6,1)-WEEKDAY(DATE($C$2,6,1))+1+1 | T15: =DATE($C$2,6,1)-WEEKDAY(DATE($C$2,6,1))+1+2 | U15: =DATE($C$2,6,1)-WEEKDAY(DATE($C$2,6,1))+1+3 | V15: =DATE($C$2,6,1)-WEEKDAY(DATE($C$2,6,1))+1+4 | W15: =DATE($C$2,6,1)-WEEKDAY(DATE($C$2,6,1))+1+5 | X15: =DATE($C$2,6,1)-WEEKDAY(DATE($C$2,6,1))+1+6
B16: =DATE($C$2,4,1)-WEEKDAY(DATE($C$2,4,1))+1+7 | C16: =DATE($C$2,4,1)-WEEKDAY(DATE($C$2,4,1))+1+8 | D16: =DATE($C$2,4,1)-WEEKDAY(DATE($C$2,4,1))+1+9 | E16: =DATE($C$2,4,1)-WEEKDAY(DATE($C$2,4,1))+1+10 | F16: =DATE($C$2,4,1)-WEEKDAY(DATE($C$2,4,1))+1+11 | G16: =DATE($C$2,4,1)-WEEKDAY(DATE($C$2,4,1))+1+12 | H16: =DATE($C$2,4,1)-WEEKDAY(DATE($C$2,4,1))+1+13 | J16: =DATE($C$2,5,1)-WEEKDAY(DATE($C$2,5,1))+1+7 | K16: =DATE($C$2,5,1)-WEEKDAY(DATE($C$2,5,1))+1+8 | L16: =DATE($C$2,5,1)-WEEKDAY(DATE($C$2,5,1))+1+9 | M16: =DATE($C$2,5,1)-WEEKDAY(DATE($C$2,5,1))+1+10 | N16: =DATE($C$2,5,1)-WEEKDAY(DATE($C$2,5,1))+1+11 | O16: =DATE($C$2,5,1)-WEEKDAY(DATE($C$2,5,1))+1+12 | P16: =DATE($C$2,5,1)-WEEKDAY(DATE($C$2,5,1))+1+13 | R16: =DATE($C$2,6,1)-WEEKDAY(DATE($C$2,6,1))+1+7 | S16: =DATE($C$2,6,1)-WEEKDAY(DATE($C$2,6,1))+1+8 | T16: =DATE($C$2,6,1)-WEEKDAY(DATE($C$2,6,1))+1+9 | U16: =DATE($C$2,6,1)-WEEKDAY(DATE($C$2,6,1))+1+10 | V16: =DATE($C$2,6,1)-WEEKDAY(DATE($C$2,6,1))+1+11 | W16: =DATE($C$2,6,1)-WEEKDAY(DATE($C$2,6,1))+1+12 | X16: =DATE($C$2,6,1)-WEEKDAY(DATE($C$2,6,1))+1+13
B17: =DATE($C$2,4,1)-WEEKDAY(DATE($C$2,4,1))+1+14 | C17: =DATE($C$2,4,1)-WEEKDAY(DATE($C$2,4,1))+1+15 | D17: =DATE($C$2,4,1)-WEEKDAY(DATE($C$2,4,1))+1+16 | E17: =DATE($C$2,4,1)-WEEKDAY(DATE($C$2,4,1))+1+17 | F17: =DATE($C$2,4,1)-WEEKDAY(DATE($C$2,4,1))+1+18 | G17: =DATE($C$2,4,1)-WEEKDAY(DATE($C$2,4,1))+1+19 | H17: =DATE($C$2,4,1)-WEEKDAY(DATE($C$2,4,1))+1+20 | J17: =DATE($C$2,5,1)-WEEKDAY(DATE($C$2,5,1))+1+14 | K17: =DATE($C$2,5,1)-WEEKDAY(DATE($C$2,5,1))+1+15 | L17: =DATE($C$2,5,1)-WEEKDAY(DATE($C$2,5,1))+1+16 | M17: =DATE($C$2,5,1)-WEEKDAY(DATE($C$2,5,1))+1+17 | N17: =DATE($C$2,5,1)-WEEKDAY(DATE($C$2,5,1))+1+18 | O17: =DATE($C$2,5,1)-WEEKDAY(DATE($C$2,5,1))+1+19 | P17: =DATE($C$2,5,1)-WEEKDAY(DATE($C$2,5,1))+1+20 | R17: =DATE($C$2,6,1)-WEEKDAY(DATE($C$2,6,1))+1+14 | S17: =DATE($C$2,6,1)-WEEKDAY(DATE($C$2,6,1))+1+15 | T17: =DATE($C$2,6,1)-WEEKDAY(DATE($C$2,6,1))+1+16 | U17: =DATE($C$2,6,1)-WEEKDAY(DATE($C$2,6,1))+1+17 | V17: =DATE($C$2,6,1)-WEEKDAY(DATE($C$2,6,1))+1+18 | W17: =DATE($C$2,6,1)-WEEKDAY(DATE($C$2,6,1))+1+19 | X17: =DATE($C$2,6,1)-WEEKDAY(DATE($C$2,6,1))+1+20
B18: =DATE($C$2,4,1)-WEEKDAY(DATE($C$2,4,1))+1+21 | C18: =DATE($C$2,4,1)-WEEKDAY(DATE($C$2,4,1))+1+22 | D18: =DATE($C$2,4,1)-WEEKDAY(DATE($C$2,4,1))+1+23 | E18: =DATE($C$2,4,1)-WEEKDAY(DATE($C$2,4,1))+1+24 | F18: =DATE($C$2,4,1)-WEEKDAY(DATE($C$2,4,1))+1+25 | G18: =DATE($C$2,4,1)-WEEKDAY(DATE($C$2,4,1))+1+26 | H18: =DATE($C$2,4,1)-WEEKDAY(DATE($C$2,4,1))+1+27 | J18: =DATE($C$2,5,1)-WEEKDAY(DATE($C$2,5,1))+1+21 | K18: =DATE($C$2,5,1)-WEEKDAY(DATE($C$2,5,1))+1+22 | L18: =DATE($C$2,5,1)-WEEKDAY(DATE($C$2,5,1))+1+23 | M18: =DATE($C$2,5,1)-WEEKDAY(DATE($C$2,5,1))+1+24 | N18: =DATE($C$2,5,1)-WEEKDAY(DATE($C$2,5,1))+1+25 | O18: =DATE($C$2,5,1)-WEEKDAY(DATE($C$2,5,1))+1+26 | P18: =DATE($C$2,5,1)-WEEKDAY(DATE($C$2,5,1))+1+27 | R18: =DATE($C$2,6,1)-WEEKDAY(DATE($C$2,6,1))+1+21 | S18: =DATE($C$2,6,1)-WEEKDAY(DATE($C$2,6,1))+1+22 | T18: =DATE($C$2,6,1)-WEEKDAY(DATE($C$2,6,1))+1+23 | U18: =DATE($C$2,6,1)-WEEKDAY(DATE($C$2,6,1))+1+24 | V18: =DATE($C$2,6,1)-WEEKDAY(DATE($C$2,6,1))+1+25 | W18: =DATE($C$2,6,1)-WEEKDAY(DATE($C$2,6,1))+1+26 | X18: =DATE($C$2,6,1)-WEEKDAY(DATE($C$2,6,1))+1+27
B19: =DATE($C$2,4,1)-WEEKDAY(DATE($C$2,4,1))+1+28 | C19: =DATE($C$2,4,1)-WEEKDAY(DATE($C$2,4,1))+1+29 | D19: =DATE($C$2,4,1)-WEEKDAY(DATE($C$2,4,1))+1+30 | E19: =DATE($C$2,4,1)-WEEKDAY(DATE($C$2,4,1))+1+31 | F19: =DATE($C$2,4,1)-WEEKDAY(DATE($C$2,4,1))+1+32 | G19: =DATE($C$2,4,1)-WEEKDAY(DATE($C$2,4,1))+1+33 | H19: =DATE($C$2,4,1)-WEEKDAY(DATE($C$2,4,1))+1+34 | J19: =DATE($C$2,5,1)-WEEKDAY(DATE($C$2,5,1))+1+28 | K19: =DATE($C$2,5,1)-WEEKDAY(DATE($C$2,5,1))+1+29 | L19: =DATE($C$2,5,1)-WEEKDAY(DATE($C$2,5,1))+1+30 | M19: =DATE($C$2,5,1)-WEEKDAY(DATE($C$2,5,1))+1+31 | N19: =DATE($C$2,5,1)-WEEKDAY(DATE($C$2,5,1))+1+32 | O19: =DATE($C$2,5,1)-WEEKDAY(DATE($C$2,5,1))+1+33 | P19: =DATE($C$2,5,1)-WEEKDAY(DATE($C$2,5,1))+1+34 | R19: =DATE($C$2,6,1)-WEEKDAY(DATE($C$2,6,1))+1+28 | S19: =DATE($C$2,6,1)-WEEKDAY(DATE($C$2,6,1))+1+29 | T19: =DATE($C$2,6,1)-WEEKDAY(DATE($C$2,6,1))+1+30 | U19: =DATE($C$2,6,1)-WEEKDAY(DATE($C$2,6,1))+1+31 | V19: =DATE($C$2,6,1)-WEEKDAY(DATE($C$2,6,1))+1+32 | W19: =DATE($C$2,6,1)-WEEKDAY(DATE($C$2,6,1))+1+33 | X19: =DATE($C$2,6,1)-WEEKDAY(DATE($C$2,6,1))+1+34
B20: =DATE($C$2,4,1)-WEEKDAY(DATE($C$2,4,1))+1+35 | C20: =DATE($C$2,4,1)-WEEKDAY(DATE($C$2,4,1))+1+36 | D20: =DATE($C$2,4,1)-WEEKDAY(DATE($C$2,4,1))+1+37 | E20: =DATE($C$2,4,1)-WEEKDAY(DATE($C$2,4,1))+1+38 | F20: =DATE($C$2,4,1)-WEEKDAY(DATE($C$2,4,1))+1+39 | G20: =DATE($C$2,4,1)-WEEKDAY(DATE($C$2,4,1))+1+40 | H20: =DATE($C$2,4,1)-WEEKDAY(DATE($C$2,4,1))+1+41 | J20: =DATE($C$2,5,1)-WEEKDAY(DATE($C$2,5,1))+1+35 | K20: =DATE($C$2,5,1)-WEEKDAY(DATE($C$2,5,1))+1+36 | L20: =DATE($C$2,5,1)-WEEKDAY(DATE($C$2,5,1))+1+37 | M20: =DATE($C$2,5,1)-WEEKDAY(DATE($C$2,5,1))+1+38 | N20: =DATE($C$2,5,1)-WEEKDAY(DATE($C$2,5,1))+1+39 | O20: =DATE($C$2,5,1)-WEEKDAY(DATE($C$2,5,1))+1+40 | P20: =DATE($C$2,5,1)-WEEKDAY(DATE($C$2,5,1))+1+41 | R20: =DATE($C$2,6,1)-WEEKDAY(DATE($C$2,6,1))+1+35 | S20: =DATE($C$2,6,1)-WEEKDAY(DATE($C$2,6,1))+1+36 | T20: =DATE($C$2,6,1)-WEEKDAY(DATE($C$2,6,1))+1+37 | U20: =DATE($C$2,6,1)-WEEKDAY(DATE($C$2,6,1))+1+38 | V20: =DATE($C$2,6,1)-WEEKDAY(DATE($C$2,6,1))+1+39 | W20: =DATE($C$2,6,1)-WEEKDAY(DATE($C$2,6,1))+1+40 | X20: =DATE($C$2,6,1)-WEEKDAY(DATE($C$2,6,1))+1+41
B22: =DATE($C$2,7,1) | J22: =DATE($C$2,8,1) | R22: =DATE($C$2,9,1)
B23: D | C23: S | D23: T | E23: Q | F23: Q | G23: S | H23: S | J23: D | K23: S | L23: T | M23: Q | N23: Q | O23: S | P23: S | R23: D | S23: S | T23: T | U23: Q | V23: Q | W23: S | X23: S
B24: =DATE($C$2,7,1)-WEEKDAY(DATE($C$2,7,1))+1+0 | C24: =DATE($C$2,7,1)-WEEKDAY(DATE($C$2,7,1))+1+1 | D24: =DATE($C$2,7,1)-WEEKDAY(DATE($C$2,7,1))+1+2 | E24: =DATE($C$2,7,1)-WEEKDAY(DATE($C$2,7,1))+1+3 | F24: =DATE($C$2,7,1)-WEEKDAY(DATE($C$2,7,1))+1+4 | G24: =DATE($C$2,7,1)-WEEKDAY(DATE($C$2,7,1))+1+5 | H24: =DATE($C$2,7,1)-WEEKDAY(DATE($C$2,7,1))+1+6 | J24: =DATE($C$2,8,1)-WEEKDAY(DATE($C$2,8,1))+1+0 | K24: =DATE($C$2,8,1)-WEEKDAY(DATE($C$2,8,1))+1+1 | L24: =DATE($C$2,8,1)-WEEKDAY(DATE($C$2,8,1))+1+2 | M24: =DATE($C$2,8,1)-WEEKDAY(DATE($C$2,8,1))+1+3 | N24: =DATE($C$2,8,1)-WEEKDAY(DATE($C$2,8,1))+1+4 | O24: =DATE($C$2,8,1)-WEEKDAY(DATE($C$2,8,1))+1+5 | P24: =DATE($C$2,8,1)-WEEKDAY(DATE($C$2,8,1))+1+6 | R24: =DATE($C$2,9,1)-WEEKDAY(DATE($C$2,9,1))+1+0 | S24: =DATE($C$2,9,1)-WEEKDAY(DATE($C$2,9,1))+1+1 | T24: =DATE($C$2,9,1)-WEEKDAY(DATE($C$2,9,1))+1+2 | U24: =DATE($C$2,9,1)-WEEKDAY(DATE($C$2,9,1))+1+3 | V24: =DATE($C$2,9,1)-WEEKDAY(DATE($C$2,9,1))+1+4 | W24: =DATE($C$2,9,1)-WEEKDAY(DATE($C$2,9,1))+1+5 | X24: =DATE($C$2,9,1)-WEEKDAY(DATE($C$2,9,1))+1+6
B25: =DATE($C$2,7,1)-WEEKDAY(DATE($C$2,7,1))+1+7 | C25: =DATE($C$2,7,1)-WEEKDAY(DATE($C$2,7,1))+1+8 | D25: =DATE($C$2,7,1)-WEEKDAY(DATE($C$2,7,1))+1+9 | E25: =DATE($C$2,7,1)-WEEKDAY(DATE($C$2,7,1))+1+10 | F25: =DATE($C$2,7,1)-WEEKDAY(DATE($C$2,7,1))+1+11 | G25: =DATE($C$2,7,1)-WEEKDAY(DATE($C$2,7,1))+1+12 | H25: =DATE($C$2,7,1)-WEEKDAY(DATE($C$2,7,1))+1+13 | J25: =DATE($C$2,8,1)-WEEKDAY(DATE($C$2,8,1))+1+7 | K25: =DATE($C$2,8,1)-WEEKDAY(DATE($C$2,8,1))+1+8 | L25: =DATE($C$2,8,1)-WEEKDAY(DATE($C$2,8,1))+1+9 | M25: =DATE($C$2,8,1)-WEEKDAY(DATE($C$2,8,1))+1+10 | N25: =DATE($C$2,8,1)-WEEKDAY(DATE($C$2,8,1))+1+11 | O25: =DATE($C$2,8,1)-WEEKDAY(DATE($C$2,8,1))+1+12 | P25: =DATE($C$2,8,1)-WEEKDAY(DATE($C$2,8,1))+1+13 | R25: =DATE($C$2,9,1)-WEEKDAY(DATE($C$2,9,1))+1+7 | S25: =DATE($C$2,9,1)-WEEKDAY(DATE($C$2,9,1))+1+8 | T25: =DATE($C$2,9,1)-WEEKDAY(DATE($C$2,9,1))+1+9 | U25: =DATE($C$2,9,1)-WEEKDAY(DATE($C$2,9,1))+1+10 | V25: =DATE($C$2,9,1)-WEEKDAY(DATE($C$2,9,1))+1+11 | W25: =DATE($C$2,9,1)-WEEKDAY(DATE($C$2,9,1))+1+12 | X25: =DATE($C$2,9,1)-WEEKDAY(DATE($C$2,9,1))+1+13
B26: =DATE($C$2,7,1)-WEEKDAY(DATE($C$2,7,1))+1+14 | C26: =DATE($C$2,7,1)-WEEKDAY(DATE($C$2,7,1))+1+15 | D26: =DATE($C$2,7,1)-WEEKDAY(DATE($C$2,7,1))+1+16 | E26: =DATE($C$2,7,1)-WEEKDAY(DATE($C$2,7,1))+1+17 | F26: =DATE($C$2,7,1)-WEEKDAY(DATE($C$2,7,1))+1+18 | G26: =DATE($C$2,7,1)-WEEKDAY(DATE($C$2,7,1))+1+19 | H26: =DATE($C$2,7,1)-WEEKDAY(DATE($C$2,7,1))+1+20 | J26: =DATE($C$2,8,1)-WEEKDAY(DATE($C$2,8,1))+1+14 | K26: =DATE($C$2,8,1)-WEEKDAY(DATE($C$2,8,1))+1+15 | L26: =DATE($C$2,8,1)-WEEKDAY(DATE($C$2,8,1))+1+16 | M26: =DATE($C$2,8,1)-WEEKDAY(DATE($C$2,8,1))+1+17 | N26: =DATE($C$2,8,1)-WEEKDAY(DATE($C$2,8,1))+1+18 | O26: =DATE($C$2,8,1)-WEEKDAY(DATE($C$2,8,1))+1+19 | P26: =DATE($C$2,8,1)-WEEKDAY(DATE($C$2,8,1))+1+20 | R26: =DATE($C$2,9,1)-WEEKDAY(DATE($C$2,9,1))+1+14 | S26: =DATE($C$2,9,1)-WEEKDAY(DATE($C$2,9,1))+1+15 | T26: =DATE($C$2,9,1)-WEEKDAY(DATE($C$2,9,1))+1+16 | U26: =DATE($C$2,9,1)-WEEKDAY(DATE($C$2,9,1))+1+17 | V26: =DATE($C$2,9,1)-WEEKDAY(DATE($C$2,9,1))+1+18 | W26: =DATE($C$2,9,1)-WEEKDAY(DATE($C$2,9,1))+1+19 | X26: =DATE($C$2,9,1)-WEEKDAY(DATE($C$2,9,1))+1+20
B27: =DATE($C$2,7,1)-WEEKDAY(DATE($C$2,7,1))+1+21 | C27: =DATE($C$2,7,1)-WEEKDAY(DATE($C$2,7,1))+1+22 | D27: =DATE($C$2,7,1)-WEEKDAY(DATE($C$2,7,1))+1+23 | E27: =DATE($C$2,7,1)-WEEKDAY(DATE($C$2,7,1))+1+24 | F27: =DATE($C$2,7,1)-WEEKDAY(DATE($C$2,7,1))+1+25 | G27: =DATE($C$2,7,1)-WEEKDAY(DATE($C$2,7,1))+1+26 | H27: =DATE($C$2,7,1)-WEEKDAY(DATE($C$2,7,1))+1+27 | J27: =DATE($C$2,8,1)-WEEKDAY(DATE($C$2,8,1))+1+21 | K27: =DATE($C$2,8,1)-WEEKDAY(DATE($C$2,8,1))+1+22 | L27: =DATE($C$2,8,1)-WEEKDAY(DATE($C$2,8,1))+1+23 | M27: =DATE($C$2,8,1)-WEEKDAY(DATE($C$2,8,1))+1+24 | N27: =DATE($C$2,8,1)-WEEKDAY(DATE($C$2,8,1))+1+25 | O27: =DATE($C$2,8,1)-WEEKDAY(DATE($C$2,8,1))+1+26 | P27: =DATE($C$2,8,1)-WEEKDAY(DATE($C$2,8,1))+1+27 | R27: =DATE($C$2,9,1)-WEEKDAY(DATE($C$2,9,1))+1+21 | S27: =DATE($C$2,9,1)-WEEKDAY(DATE($C$2,9,1))+1+22 | T27: =DATE($C$2,9,1)-WEEKDAY(DATE($C$2,9,1))+1+23 | U27: =DATE($C$2,9,1)-WEEKDAY(DATE($C$2,9,1))+1+24 | V27: =DATE($C$2,9,1)-WEEKDAY(DATE($C$2,9,1))+1+25 | W27: =DATE($C$2,9,1)-WEEKDAY(DATE($C$2,9,1))+1+26 | X27: =DATE($C$2,9,1)-WEEKDAY(DATE($C$2,9,1))+1+27
B28: =DATE($C$2,7,1)-WEEKDAY(DATE($C$2,7,1))+1+28 | C28: =DATE($C$2,7,1)-WEEKDAY(DATE($C$2,7,1))+1+29 | D28: =DATE($C$2,7,1)-WEEKDAY(DATE($C$2,7,1))+1+30 | E28: =DATE($C$2,7,1)-WEEKDAY(DATE($C$2,7,1))+1+31 | F28: =DATE($C$2,7,1)-WEEKDAY(DATE($C$2,7,1))+1+32 | G28: =DATE($C$2,7,1)-WEEKDAY(DATE($C$2,7,1))+1+33 | H28: =DATE($C$2,7,1)-WEEKDAY(DATE($C$2,7,1))+1+34 | J28: =DATE($C$2,8,1)-WEEKDAY(DATE($C$2,8,1))+1+28 | K28: =DATE($C$2,8,1)-WEEKDAY(DATE($C$2,8,1))+1+29 | L28: =DATE($C$2,8,1)-WEEKDAY(DATE($C$2,8,1))+1+30 | M28: =DATE($C$2,8,1)-WEEKDAY(DATE($C$2,8,1))+1+31 | N28: =DATE($C$2,8,1)-WEEKDAY(DATE($C$2,8,1))+1+32 | O28: =DATE($C$2,8,1)-WEEKDAY(DATE($C$2,8,1))+1+33 | P28: =DATE($C$2,8,1)-WEEKDAY(DATE($C$2,8,1))+1+34 | R28: =DATE($C$2,9,1)-WEEKDAY(DATE($C$2,9,1))+1+28 | S28: =DATE($C$2,9,1)-WEEKDAY(DATE($C$2,9,1))+1+29 | T28: =DATE($C$2,9,1)-WEEKDAY(DATE($C$2,9,1))+1+30 | U28: =DATE($C$2,9,1)-WEEKDAY(DATE($C$2,9,1))+1+31 | V28: =DATE($C$2,9,1)-WEEKDAY(DATE($C$2,9,1))+1+32 | W28: =DATE($C$2,9,1)-WEEKDAY(DATE($C$2,9,1))+1+33 | X28: =DATE($C$2,9,1)-WEEKDAY(DATE($C$2,9,1))+1+34
B29: =DATE($C$2,7,1)-WEEKDAY(DATE($C$2,7,1))+1+35 | C29: =DATE($C$2,7,1)-WEEKDAY(DATE($C$2,7,1))+1+36 | D29: =DATE($C$2,7,1)-WEEKDAY(DATE($C$2,7,1))+1+37 | E29: =DATE($C$2,7,1)-WEEKDAY(DATE($C$2,7,1))+1+38 | F29: =DATE($C$2,7,1)-WEEKDAY(DATE($C$2,7,1))+1+39 | G29: =DATE($C$2,7,1)-WEEKDAY(DATE($C$2,7,1))+1+40 | H29: =DATE($C$2,7,1)-WEEKDAY(DATE($C$2,7,1))+1+41 | J29: =DATE($C$2,8,1)-WEEKDAY(DATE($C$2,8,1))+1+35 | K29: =DATE($C$2,8,1)-WEEKDAY(DATE($C$2,8,1))+1+36 | L29: =DATE($C$2,8,1)-WEEKDAY(DATE($C$2,8,1))+1+37 | M29: =DATE($C$2,8,1)-WEEKDAY(DATE($C$2,8,1))+1+38 | N29: =DATE($C$2,8,1)-WEEKDAY(DATE($C$2,8,1))+1+39 | O29: =DATE($C$2,8,1)-WEEKDAY(DATE($C$2,8,1))+1+40 | P29: =DATE($C$2,8,1)-WEEKDAY(DATE($C$2,8,1))+1+41 | R29: =DATE($C$2,9,1)-WEEKDAY(DATE($C$2,9,1))+1+35 | S29: =DATE($C$2,9,1)-WEEKDAY(DATE($C$2,9,1))+1+36 | T29: =DATE($C$2,9,1)-WEEKDAY(DATE($C$2,9,1))+1+37 | U29: =DATE($C$2,9,1)-WEEKDAY(DATE($C$2,9,1))+1+38 | V29: =DATE($C$2,9,1)-WEEKDAY(DATE($C$2,9,1))+1+39 | W29: =DATE($C$2,9,1)-WEEKDAY(DATE($C$2,9,1))+1+40 | X29: =DATE($C$2,9,1)-WEEKDAY(DATE($C$2,9,1))+1+41
B31: =DATE($C$2,10,1) | J31: =DATE($C$2,11,1) | R31: =DATE($C$2,12,1)
B32: D | C32: S | D32: T | E32: Q | F32: Q | G32: S | H32: S | J32: D | K32: S | L32: T | M32: Q | N32: Q | O32: S | P32: S | R32: D | S32: S | T32: T | U32: Q | V32: Q | W32: S | X32: S
B33: =DATE($C$2,10,1)-WEEKDAY(DATE($C$2,10,1))+1+0 | C33: =DATE($C$2,10,1)-WEEKDAY(DATE($C$2,10,1))+1+1 | D33: =DATE($C$2,10,1)-WEEKDAY(DATE($C$2,10,1))+1+2 | E33: =DATE($C$2,10,1)-WEEKDAY(DATE($C$2,10,1))+1+3 | F33: =DATE($C$2,10,1)-WEEKDAY(DATE($C$2,10,1))+1+4 | G33: =DATE($C$2,10,1)-WEEKDAY(DATE($C$2,10,1))+1+5 | H33: =DATE($C$2,10,1)-WEEKDAY(DATE($C$2,10,1))+1+6 | J33: =DATE($C$2,11,1)-WEEKDAY(DATE($C$2,11,1))+1+0 | K33: =DATE($C$2,11,1)-WEEKDAY(DATE($C$2,11,1))+1+1 | L33: =DATE($C$2,11,1)-WEEKDAY(DATE($C$2,11,1))+1+2 | M33: =DATE($C$2,11,1)-WEEKDAY(DATE($C$2,11,1))+1+3 | N33: =DATE($C$2,11,1)-WEEKDAY(DATE($C$2,11,1))+1+4 | O33: =DATE($C$2,11,1)-WEEKDAY(DATE($C$2,11,1))+1+5 | P33: =DATE($C$2,11,1)-WEEKDAY(DATE($C$2,11,1))+1+6 | R33: =DATE($C$2,12,1)-WEEKDAY(DATE($C$2,12,1))+1+0 | S33: =DATE($C$2,12,1)-WEEKDAY(DATE($C$2,12,1))+1+1 | T33: =DATE($C$2,12,1)-WEEKDAY(DATE($C$2,12,1))+1+2 | U33: =DATE($C$2,12,1)-WEEKDAY(DATE($C$2,12,1))+1+3 | V33: =DATE($C$2,12,1)-WEEKDAY(DATE($C$2,12,1))+1+4 | W33: =DATE($C$2,12,1)-WEEKDAY(DATE($C$2,12,1))+1+5 | X33: =DATE($C$2,12,1)-WEEKDAY(DATE($C$2,12,1))+1+6
B34: =DATE($C$2,10,1)-WEEKDAY(DATE($C$2,10,1))+1+7 | C34: =DATE($C$2,10,1)-WEEKDAY(DATE($C$2,10,1))+1+8 | D34: =DATE($C$2,10,1)-WEEKDAY(DATE($C$2,10,1))+1+9 | E34: =DATE($C$2,10,1)-WEEKDAY(DATE($C$2,10,1))+1+10 | F34: =DATE($C$2,10,1)-WEEKDAY(DATE($C$2,10,1))+1+11 | G34: =DATE($C$2,10,1)-WEEKDAY(DATE($C$2,10,1))+1+12 | H34: =DATE($C$2,10,1)-WEEKDAY(DATE($C$2,10,1))+1+13 | J34: =DATE($C$2,11,1)-WEEKDAY(DATE($C$2,11,1))+1+7 | K34: =DATE($C$2,11,1)-WEEKDAY(DATE($C$2,11,1))+1+8 | L34: =DATE($C$2,11,1)-WEEKDAY(DATE($C$2,11,1))+1+9 | M34: =DATE($C$2,11,1)-WEEKDAY(DATE($C$2,11,1))+1+10 | N34: =DATE($C$2,11,1)-WEEKDAY(DATE($C$2,11,1))+1+11 | O34: =DATE($C$2,11,1)-WEEKDAY(DATE($C$2,11,1))+1+12 | P34: =DATE($C$2,11,1)-WEEKDAY(DATE($C$2,11,1))+1+13 | R34: =DATE($C$2,12,1)-WEEKDAY(DATE($C$2,12,1))+1+7 | S34: =DATE($C$2,12,1)-WEEKDAY(DATE($C$2,12,1))+1+8 | T34: =DATE($C$2,12,1)-WEEKDAY(DATE($C$2,12,1))+1+9 | U34: =DATE($C$2,12,1)-WEEKDAY(DATE($C$2,12,1))+1+10 | V34: =DATE($C$2,12,1)-WEEKDAY(DATE($C$2,12,1))+1+11 | W34: =DATE($C$2,12,1)-WEEKDAY(DATE($C$2,12,1))+1+12 | X34: =DATE($C$2,12,1)-WEEKDAY(DATE($C$2,12,1))+1+13
B35: =DATE($C$2,10,1)-WEEKDAY(DATE($C$2,10,1))+1+14 | C35: =DATE($C$2,10,1)-WEEKDAY(DATE($C$2,10,1))+1+15 | D35: =DATE($C$2,10,1)-WEEKDAY(DATE($C$2,10,1))+1+16 | E35: =DATE($C$2,10,1)-WEEKDAY(DATE($C$2,10,1))+1+17 | F35: =DATE($C$2,10,1)-WEEKDAY(DATE($C$2,10,1))+1+18 | G35: =DATE($C$2,10,1)-WEEKDAY(DATE($C$2,10,1))+1+19 | H35: =DATE($C$2,10,1)-WEEKDAY(DATE($C$2,10,1))+1+20 | J35: =DATE($C$2,11,1)-WEEKDAY(DATE($C$2,11,1))+1+14 | K35: =DATE($C$2,11,1)-WEEKDAY(DATE($C$2,11,1))+1+15 | L35: =DATE($C$2,11,1)-WEEKDAY(DATE($C$2,11,1))+1+16 | M35: =DATE($C$2,11,1)-WEEKDAY(DATE($C$2,11,1))+1+17 | N35: =DATE($C$2,11,1)-WEEKDAY(DATE($C$2,11,1))+1+18 | O35: =DATE($C$2,11,1)-WEEKDAY(DATE($C$2,11,1))+1+19 | P35: =DATE($C$2,11,1)-WEEKDAY(DATE($C$2,11,1))+1+20 | R35: =DATE($C$2,12,1)-WEEKDAY(DATE($C$2,12,1))+1+14 | S35: =DATE($C$2,12,1)-WEEKDAY(DATE($C$2,12,1))+1+15 | T35: =DATE($C$2,12,1)-WEEKDAY(DATE($C$2,12,1))+1+16 | U35: =DATE($C$2,12,1)-WEEKDAY(DATE($C$2,12,1))+1+17 | V35: =DATE($C$2,12,1)-WEEKDAY(DATE($C$2,12,1))+1+18 | W35: =DATE($C$2,12,1)-WEEKDAY(DATE($C$2,12,1))+1+19 | X35: =DATE($C$2,12,1)-WEEKDAY(DATE($C$2,12,1))+1+20
B36: =DATE($C$2,10,1)-WEEKDAY(DATE($C$2,10,1))+1+21 | C36: =DATE($C$2,10,1)-WEEKDAY(DATE($C$2,10,1))+1+22 | D36: =DATE($C$2,10,1)-WEEKDAY(DATE($C$2,10,1))+1+23 | E36: =DATE($C$2,10,1)-WEEKDAY(DATE($C$2,10,1))+1+24 | F36: =DATE($C$2,10,1)-WEEKDAY(DATE($C$2,10,1))+1+25 | G36: =DATE($C$2,10,1)-WEEKDAY(DATE($C$2,10,1))+1+26 | H36: =DATE($C$2,10,1)-WEEKDAY(DATE($C$2,10,1))+1+27 | J36: =DATE($C$2,11,1)-WEEKDAY(DATE($C$2,11,1))+1+21 | K36: =DATE($C$2,11,1)-WEEKDAY(DATE($C$2,11,1))+1+22 | L36: =DATE($C$2,11,1)-WEEKDAY(DATE($C$2,11,1))+1+23 | M36: =DATE($C$2,11,1)-WEEKDAY(DATE($C$2,11,1))+1+24 | N36: =DATE($C$2,11,1)-WEEKDAY(DATE($C$2,11,1))+1+25 | O36: =DATE($C$2,11,1)-WEEKDAY(DATE($C$2,11,1))+1+26 | P36: =DATE($C$2,11,1)-WEEKDAY(DATE($C$2,11,1))+1+27 | R36: =DATE($C$2,12,1)-WEEKDAY(DATE($C$2,12,1))+1+21 | S36: =DATE($C$2,12,1)-WEEKDAY(DATE($C$2,12,1))+1+22 | T36: =DATE($C$2,12,1)-WEEKDAY(DATE($C$2,12,1))+1+23 | U36: =DATE($C$2,12,1)-WEEKDAY(DATE($C$2,12,1))+1+24 | V36: =DATE($C$2,12,1)-WEEKDAY(DATE($C$2,12,1))+1+25 | W36: =DATE($C$2,12,1)-WEEKDAY(DATE($C$2,12,1))+1+26 | X36: =DATE($C$2,12,1)-WEEKDAY(DATE($C$2,12,1))+1+27
B37: =DATE($C$2,10,1)-WEEKDAY(DATE($C$2,10,1))+1+28 | C37: =DATE($C$2,10,1)-WEEKDAY(DATE($C$2,10,1))+1+29 | D37: =DATE($C$2,10,1)-WEEKDAY(DATE($C$2,10,1))+1+30 | E37: =DATE($C$2,10,1)-WEEKDAY(DATE($C$2,10,1))+1+31 | F37: =DATE($C$2,10,1)-WEEKDAY(DATE($C$2,10,1))+1+32 | G37: =DATE($C$2,10,1)-WEEKDAY(DATE($C$2,10,1))+1+33 | H37: =DATE($C$2,10,1)-WEEKDAY(DATE($C$2,10,1))+1+34 | J37: =DATE($C$2,11,1)-WEEKDAY(DATE($C$2,11,1))+1+28 | K37: =DATE($C$2,11,1)-WEEKDAY(DATE($C$2,11,1))+1+29 | L37: =DATE($C$2,11,1)-WEEKDAY(DATE($C$2,11,1))+1+30 | M37: =DATE($C$2,11,1)-WEEKDAY(DATE($C$2,11,1))+1+31 | N37: =DATE($C$2,11,1)-WEEKDAY(DATE($C$2,11,1))+1+32 | O37: =DATE($C$2,11,1)-WEEKDAY(DATE($C$2,11,1))+1+33 | P37: =DATE($C$2,11,1)-WEEKDAY(DATE($C$2,11,1))+1+34 | R37: =DATE($C$2,12,1)-WEEKDAY(DATE($C$2,12,1))+1+28 | S37: =DATE($C$2,12,1)-WEEKDAY(DATE($C$2,12,1))+1+29 | T37: =DATE($C$2,12,1)-WEEKDAY(DATE($C$2,12,1))+1+30 | U37: =DATE($C$2,12,1)-WEEKDAY(DATE($C$2,12,1))+1+31 | V37: =DATE($C$2,12,1)-WEEKDAY(DATE($C$2,12,1))+1+32 | W37: =DATE($C$2,12,1)-WEEKDAY(DATE($C$2,12,1))+1+33 | X37: =DATE($C$2,12,1)-WEEKDAY(DATE($C$2,12,1))+1+34
B38: =DATE($C$2,10,1)-WEEKDAY(DATE($C$2,10,1))+1+35 | C38: =DATE($C$2,10,1)-WEEKDAY(DATE($C$2,10,1))+1+36 | D38: =DATE($C$2,10,1)-WEEKDAY(DATE($C$2,10,1))+1+37 | E38: =DATE($C$2,10,1)-WEEKDAY(DATE($C$2,10,1))+1+38 | F38: =DATE($C$2,10,1)-WEEKDAY(DATE($C$2,10,1))+1+39 | G38: =DATE($C$2,10,1)-WEEKDAY(DATE($C$2,10,1))+1+40 | H38: =DATE($C$2,10,1)-WEEKDAY(DATE($C$2,10,1))+1+41 | J38: =DATE($C$2,11,1)-WEEKDAY(DATE($C$2,11,1))+1+35 | K38: =DATE($C$2,11,1)-WEEKDAY(DATE($C$2,11,1))+1+36 | L38: =DATE($C$2,11,1)-WEEKDAY(DATE($C$2,11,1))+1+37 | M38: =DATE($C$2,11,1)-WEEKDAY(DATE($C$2,11,1))+1+38 | N38: =DATE($C$2,11,1)-WEEKDAY(DATE($C$2,11,1))+1+39 | O38: =DATE($C$2,11,1)-WEEKDAY(DATE($C$2,11,1))+1+40 | P38: =DATE($C$2,11,1)-WEEKDAY(DATE($C$2,11,1))+1+41 | R38: =DATE($C$2,12,1)-WEEKDAY(DATE($C$2,12,1))+1+35 | S38: =DATE($C$2,12,1)-WEEKDAY(DATE($C$2,12,1))+1+36 | T38: =DATE($C$2,12,1)-WEEKDAY(DATE($C$2,12,1))+1+37 | U38: =DATE($C$2,12,1)-WEEKDAY(DATE($C$2,12,1))+1+38 | V38: =DATE($C$2,12,1)-WEEKDAY(DATE($C$2,12,1))+1+39 | W38: =DATE($C$2,12,1)-WEEKDAY(DATE($C$2,12,1))+1+40 | X38: =DATE($C$2,12,1)-WEEKDAY(DATE($C$2,12,1))+1+41

Sheet Feriados
A1: Feriados nacionais e pontos facultativos
A2: Ano: | B2: =Calendário!C2
A4: Data | B4: Dia da semana | C4: Feriado | D4: Tipo | F4: Páscoa
A5: =DATE($B$2,1,1) | B5: =TEXT(A5,"dddd") | C5: Confraternização Universal | D5: Feriado nacional | F5: =ROUND(DATE(B2,4,1)/7+MOD(19*MOD(B2,19)-7,30)*14%,0)*7-6
A6: =$F$5-2 | B6: =TEXT(A6,"dddd") | C6: Paixão de Cristo (Sexta-feira Santa) | D6: Feriado nacional | F6: Base para Carnaval, Sexta-feira Santa e Corpus Christi
A7: =DATE($B$2,4,21) | B7: =TEXT(A7,"dddd") | C7: Tiradentes | D7: Feriado nacional
A8: =DATE($B$2,5,1) | B8: =TEXT(A8,"dddd") | C8: Dia do Trabalho | D8: Feriado nacional
A9: =DATE($B$2,9,7) | B9: =TEXT(A9,"dddd") | C9: Independência do Brasil | D9: Feriado nacional
A10: =DATE($B$2,10,12) | B10: =TEXT(A10,"dddd") | C10: Nossa Senhora Aparecida | D10: Feriado nacional
A11: =DATE($B$2,11,2) | B11: =TEXT(A11,"dddd") | C11: Finados | D11: Feriado nacional
A12: =DATE($B$2,11,15) | B12: =TEXT(A12,"dddd") | C12: Proclamação da República | D12: Feriado nacional
A13: =DATE($B$2,11,20) | B13: =TEXT(A13,"dddd") | C13: Dia Nacional de Zumbi e da Consciência Negra | D13: Feriado nacional
A14: =DATE($B$2,12,25) | B14: =TEXT(A14,"dddd") | C14: Natal | D14: Feriado nacional
A15: =$F$5-48 | B15: =TEXT(A15,"dddd") | C15: Carnaval (segunda-feira) | D15: Ponto facultativo
A16: =$F$5-47 | B16: =TEXT(A16,"dddd") | C16: Carnaval (terça-feira) | D16: Ponto facultativo
A17: =$F$5+60 | B17: =TEXT(A17,"dddd") | C17: Corpus Christi | D17: Ponto facultativo
A19: Inclua aqui os feriados do seu estado e da sua cidade na tabela de cima, se quiser (aumente o intervalo dos nomes FeriadosNacionais/PontosFacultativos).
A20: Fonte: Lei 662/1949, Lei 6.802/1980, Lei 9.093/1995 e Lei 14.759/2023. Carnaval e Corpus Christi são ponto facultativo no serviço público federal.

Sheet Dias úteis
A1: Dias úteis por mês
A3: Mês | B3: Início | C3: Fim | D3: Dias úteis (sem feriados nacionais) | E3: Dias úteis (sem feriados e pontos facultativos)
A4: =B4 | B4: =DATE(Calendário!$C$2,1,1) | C4: =EOMONTH(B4,0) | D4: =NETWORKDAYS(B4,C4,FeriadosNacionais) | E4: =NETWORKDAYS(B4,C4,FeriadosTodos)
A5: =B5 | B5: =DATE(Calendário!$C$2,2,1) | C5: =EOMONTH(B5,0) | D5: =NETWORKDAYS(B5,C5,FeriadosNacionais) | E5: =NETWORKDAYS(B5,C5,FeriadosTodos)
A6: =B6 | B6: =DATE(Calendário!$C$2,3,1) | C6: =EOMONTH(B6,0) | D6: =NETWORKDAYS(B6,C6,FeriadosNacionais) | E6: =NETWORKDAYS(B6,C6,FeriadosTodos)
A7: =B7 | B7: =DATE(Calendário!$C$2,4,1) | C7: =EOMONTH(B7,0) | D7: =NETWORKDAYS(B7,C7,FeriadosNacionais) | E7: =NETWORKDAYS(B7,C7,FeriadosTodos)
A8: =B8 | B8: =DATE(Calendário!$C$2,5,1) | C8: =EOMONTH(B8,0) | D8: =NETWORKDAYS(B8,C8,FeriadosNacionais) | E8: =NETWORKDAYS(B8,C8,FeriadosTodos)
A9: =B9 | B9: =DATE(Calendário!$C$2,6,1) | C9: =EOMONTH(B9,0) | D9: =NETWORKDAYS(B9,C9,FeriadosNacionais) | E9: =NETWORKDAYS(B9,C9,FeriadosTodos)
A10: =B10 | B10: =DATE(Calendário!$C$2,7,1) | C10: =EOMONTH(B10,0) | D10: =NETWORKDAYS(B10,C10,FeriadosNacionais) | E10: =NETWORKDAYS(B10,C10,FeriadosTodos)
A11: =B11 | B11: =DATE(Calendário!$C$2,8,1) | C11: =EOMONTH(B11,0) | D11: =NETWORKDAYS(B11,C11,FeriadosNacionais) | E11: =NETWORKDAYS(B11,C11,FeriadosTodos)
A12: =B12 | B12: =DATE(Calendário!$C$2,9,1) | C12: =EOMONTH(B12,0) | D12: =NETWORKDAYS(B12,C12,FeriadosNacionais) | E12: =NETWORKDAYS(B12,C12,FeriadosTodos)
A13: =B13 | B13: =DATE(Calendário!$C$2,10,1) | C13: =EOMONTH(B13,0) | D13: =NETWORKDAYS(B13,C13,FeriadosNacionais) | E13: =NETWORKDAYS(B13,C13,FeriadosTodos)
A14: =B14 | B14: =DATE(Calendário!$C$2,11,1) | C14: =EOMONTH(B14,0) | D14: =NETWORKDAYS(B14,C14,FeriadosNacionais) | E14: =NETWORKDAYS(B14,C14,FeriadosTodos)
A15: =B15 | B15: =DATE(Calendário!$C$2,12,1) | C15: =EOMONTH(B15,0) | D15: =NETWORKDAYS(B15,C15,FeriadosNacionais) | E15: =NETWORKDAYS(B15,C15,FeriadosTodos)
A16: Total | D16: =SUM(D4:D15) | E16: =SUM(E4:E15)

Sheet Como usar
A1: Como usar esta planilha
A3: 1. Na aba Calendário, digite o ano na célula C2. Os 12 meses, os feriados e os dias úteis se atualizam sozinhos.
A4: 2. Vermelho = feriado nacional. Amarelo = ponto facultativo (Carnaval e Corpus Christi).
A5: 3. Na aba Feriados você pode trocar ou acrescentar feriados do seu estado e da sua cidade.
A6: 4. A aba Dias úteis conta segunda a sexta, descontando os feriados (função DIATRABALHOTOTAL).
A7: 5. Antes de usar outro ano, confira se a lei de feriados mudou.
A9: Feito por Excel Smart - excelsmart.com.br
